BEGIN:VCALENDAR
VERSION:2.0
PRODID:-//TheRoots FM - ECPv6.15.20//NONSGML v1.0//EN
CALSCALE:GREGORIAN
METHOD:PUBLISH
X-WR-CALNAME:TheRoots FM
X-ORIGINAL-URL:https://www.therootsfm.org
X-WR-CALDESC:Events for TheRoots FM
REFRESH-INTERVAL;VALUE=DURATION:PT1H
X-Robots-Tag:noindex
X-PUBLISHED-TTL:PT1H
BEGIN:VTIMEZONE
TZID:America/Chicago
BEGIN:DAYLIGHT
TZOFFSETFROM:-0600
TZOFFSETTO:-0500
TZNAME:CDT
DTSTART:20240310T080000
END:DAYLIGHT
BEGIN:STANDARD
TZOFFSETFROM:-0500
TZOFFSETTO:-0600
TZNAME:CST
DTSTART:20241103T070000
END:STANDARD
BEGIN:DAYLIGHT
TZOFFSETFROM:-0600
TZOFFSETTO:-0500
TZNAME:CDT
DTSTART:20250309T080000
END:DAYLIGHT
BEGIN:STANDARD
TZOFFSETFROM:-0500
TZOFFSETTO:-0600
TZNAME:CST
DTSTART:20251102T070000
END:STANDARD
BEGIN:DAYLIGHT
TZOFFSETFROM:-0600
TZOFFSETTO:-0500
TZNAME:CDT
DTSTART:20260308T080000
END:DAYLIGHT
BEGIN:STANDARD
TZOFFSETFROM:-0500
TZOFFSETTO:-0600
TZNAME:CST
DTSTART:20261101T070000
END:STANDARD
END:VTIMEZONE
BEGIN:VEVENT
DTSTART;TZID=America/Chicago:20250524T200000
DTEND;TZID=America/Chicago:20250524T223000
DTSTAMP:20260425T090609
CREATED:20250309T174259Z
LAST-MODIFIED:20250309T174259Z
UID:27886-1748116800-1748125800@www.therootsfm.org
SUMMARY:Mike Zito - Old Rock House
DESCRIPTION:  \n\nMike Zito (born November 19\, 1970) is an American guitarist\, singer\, producer\, and songwriter from St. Louis\, Missouri\, United States. He is a co-founder of Royal Southern Brotherhood that features Cyril Neville\, Devon Allman\, Charlie Wooton and Yonrico Scott. Zito started singing at the age of five and by his late teens he had begun his career in the St Louis area music scene. In 2008\, Zito made his international debut on the Eclecto Groove label. Zito released records on his own label he toured regionally and performed some national dates until signing with Eclecto Groove Records in 2008.
URL:https://www.therootsfm.org/event/mike-zito-old-rock-house/
LOCATION:Old Rock House\, 1200 S 7th St\, St Louis\, Missouri\, 63104\, United States
END:VEVENT
END:VCALENDAR